BEGIN:VCALENDAR

VERSION:2.0

PRODID:-//hacksw/handcal//NONSGML v1.0//EN

BEGIN:VEVENT

UID:8074069ea2e287a3abfe5518377d4e0f

DTSTAMP:20260421T090133Z

DTSTART:20260419T120000

DTEND:20260419T123000

SUMMARY:L21662899 - 32 Walden Street, WELLARD WA 6170

LOCATION:32 Walden Street, WELLARD WA 6170

END:VEVENT

END:VCALENDAR